BEGIN:VCALENDAR
VERSION:2.0
PRODID:-//hacksw/handcal//NONSGML v1.0//EN
BEGIN:VEVENT
SUMMARY:Tournoi regional
UID:6140ad1b-e26c-44f1-905a-d5baf5c74e79
DTSTART:20260311T090000Z
DTEND:20260311T130000Z
LOCATION:Localisation   
CATEGORIES:Sportif
STATUS:
DESCRIPTION:<p>Le tournoi regional organise par le club aura lieu sur
 le grand stade de la ville a partir de 14h.<br> Trois de nos equipes
 seront en lice dans la competition.
 </p><p>Les prix seront remis en
 soiree.</p>
URL;VALUE=URI:https://fc-terre-et-mer.sportsregions.fr/evenements/2026/03/11/tournoi-regional-2426371
END:VEVENT
END:VCALENDAR
