BEGIN:VCALENDAR
VERSION:2.0
PRODID:-//hacksw/handcal//NONSGML v1.0//EN
BEGIN:VEVENT
SUMMARY:Match
UID:d8161052-869f-405b-8551-a840d6bd5b22
DTSTART:20260311T090000Z
DTEND:20260311T130000Z
LOCATION:Localisation   
CATEGORIES:Sportif
STATUS:
DESCRIPTION:Belle victoire de notre equipe ! Rendez-vous samedi pour
 le prochain match. 
URL;VALUE=URI:https://fc-terre-et-mer.sportsregions.fr/evenements/2026/03/11/match-2426372
END:VEVENT
END:VCALENDAR
